BEGIN:VCALENDAR
VERSION:2.0
PRODID:-//wp-events-plugin.com//7.2.3.1//EN
TZID:Australia/Sydney
X-WR-TIMEZONE:Australia/Sydney
BEGIN:VEVENT
UID:1@myhealingcommunity.com
DTSTART;TZID=Australia/Sydney:20240512T080000
DTEND;TZID=Australia/Sydney:20240512T083000
DTSTAMP:20240511T004742Z
URL:https://myhealingcommunity.com/events/test-event/
SUMMARY:TEST EVENT
DESCRIPTION:
END:VEVENT
BEGIN:VTIMEZONE
TZID:Australia/Sydney
X-LIC-LOCATION:Australia/Sydney
BEGIN:STANDARD
DTSTART:20240407T020000
TZOFFSETFROM:+1100
TZOFFSETTO:+1000
TZNAME:AEST
END:STANDARD
END:VTIMEZONE
END:VCALENDAR